BEGIN:VCALENDAR
VERSION:2.0
PRODID:-//Endless Orchard Cider - ECPv6.15.20//NONSGML v1.0//EN
CALSCALE:GREGORIAN
METHOD:PUBLISH
X-WR-CALNAME:Endless Orchard Cider
X-ORIGINAL-URL:https://endlessorchardcider.com
X-WR-CALDESC:Events for Endless Orchard Cider
REFRESH-INTERVAL;VALUE=DURATION:PT1H
X-Robots-Tag:noindex
X-PUBLISHED-TTL:PT1H
BEGIN:VTIMEZONE
TZID:America/Los_Angeles
BEGIN:DAYLIGHT
TZOFFSETFROM:-0800
TZOFFSETTO:-0700
TZNAME:PDT
DTSTART:20230312T100000
END:DAYLIGHT
BEGIN:STANDARD
TZOFFSETFROM:-0700
TZOFFSETTO:-0800
TZNAME:PST
DTSTART:20231105T090000
END:STANDARD
BEGIN:DAYLIGHT
TZOFFSETFROM:-0800
TZOFFSETTO:-0700
TZNAME:PDT
DTSTART:20240310T100000
END:DAYLIGHT
BEGIN:STANDARD
TZOFFSETFROM:-0700
TZOFFSETTO:-0800
TZNAME:PST
DTSTART:20241103T090000
END:STANDARD
BEGIN:DAYLIGHT
TZOFFSETFROM:-0800
TZOFFSETTO:-0700
TZNAME:PDT
DTSTART:20250309T100000
END:DAYLIGHT
BEGIN:STANDARD
TZOFFSETFROM:-0700
TZOFFSETTO:-0800
TZNAME:PST
DTSTART:20251102T090000
END:STANDARD
END:VTIMEZONE
BEGIN:VEVENT
DTSTART;TZID=America/Los_Angeles:20240703T150000
DTEND;TZID=America/Los_Angeles:20240703T180000
DTSTAMP:20260424T063310
CREATED:20240613T213111Z
LAST-MODIFIED:20240613T213111Z
UID:648-1720018800-1720029600@endlessorchardcider.com
SUMMARY:Live Music with Corban Welter + Taco Bar
DESCRIPTION:Join us for an unforgettable experience at our Endless Orchard Summer Concert Series. Enjoy live music by Corban Welter\, a talented local artist from the Pacific Northwest\, from 3 to 6pm. Whether you grab a spot on the patio or the lawn\, a glass of our cold\, refreshing cider is the perfect companion to your summer bliss.\n\nLive Music: Corban is a singer-songwriter and mandolinist\, inspired by centuries-old folk ballads and more contemporary songwriters like Bob Dylan\, Joni Mitchell\, Gordon Lightfoot\, and Tom Waits.Lawn Games: Have fun with friends and family with a variety of classic lawn games.Delicious Food: Taco Bar + Cider tasting for purchase!Cider: 6 unforgettable flavors on tap \n\nMake this summer one to remember with great music\, tasty cider\, and the best company. We can’t wait to see you there!
URL:https://endlessorchardcider.com/event/live-music-with-corban-welter-taco-bar/
LOCATION:Endless Orchard Tasting Room\, 203 Bighorn Way\, Chelan\, Washington\, 98816\, United States
ATTACH;FMTTYPE=image/png:https://endlessorchardcider.com/wp-content/uploads/2024/06/July-3-Corban-Welter.png
END:VEVENT
BEGIN:VEVENT
DTSTART;TZID=America/Los_Angeles:20240706T150000
DTEND;TZID=America/Los_Angeles:20240706T180000
DTSTAMP:20260424T063310
CREATED:20240701T160659Z
LAST-MODIFIED:20240701T160659Z
UID:695-1720278000-1720288800@endlessorchardcider.com
SUMMARY:Red\, White\, & Blueberry-Basil Bash!
DESCRIPTION:It’s a Red\, White\, & Blueberry-Basil Bash! \nCome celebrate the 4th of July with us this Saturday\, July 6th\, from 3-6pm! We’re throwing a Red\, White\, and Blueberry-Basil Cider Bash you won’t want to miss! 🎉 \nEnjoy awesome live tunes from local musician Dean Farris\, chow down on juicy burgers hot off the grill\, and cool off with a cold drink! 🍔🎶 \nWe’ve got our award-winning Blueberry-Basil Cider by the pour and as a slushie\, plus non-alcoholic slushies for everyone to enjoy✨ \nBring your friends and family\, spread out on the grass\, play some lawn games\, and soak up the good vibes. It’s the perfect way to kick off the 4th before the big fireworks show in downtown Chelan. Cheers🎆
URL:https://endlessorchardcider.com/event/red-white-blueberry-basil-bash/
LOCATION:Endless Orchard Tasting Room\, 203 Bighorn Way\, Chelan\, Washington\, 98816\, United States
ATTACH;FMTTYPE=image/png:https://endlessorchardcider.com/wp-content/uploads/2024/07/Event-Calendar-Template-9.png
END:VEVENT
BEGIN:VEVENT
DTSTART;TZID=America/Los_Angeles:20240707T150000
DTEND;TZID=America/Los_Angeles:20240707T180000
DTSTAMP:20260424T063310
CREATED:20240613T215600Z
LAST-MODIFIED:20240613T215600Z
UID:651-1720364400-1720375200@endlessorchardcider.com
SUMMARY:Live Music with Flowers for Wolves
DESCRIPTION:Join us for an unforgettable experience at our Endless Orchard Summer Concert Series. Enjoy live music by Flowers for Wolves\, a talented local artist from the Pacific Northwest\, from 3 to 6pm. Whether you grab a spot on the patio or the lawn\, a glass of our cold\, refreshing cider is the perfect companion to your summer bliss.\n\nLive Music: Flowers for Wolves brings a mix of fresh originals and cool covers that span all sorts of genres and eras\, all served up with a dash of acoustic charm and a lively spirit.Lawn Games: Have fun with friends and family with a variety of classic lawn games.Delicious Food: Tasty bites available for purchase!Cider: 6 unforgettable flavors on tap \n\nMake this summer one to remember with great music\, tasty cider\, and the best company. We can’t wait to see you there!
URL:https://endlessorchardcider.com/event/live-music-with-flowers-for-wolves/
LOCATION:Endless Orchard Tasting Room\, 203 Bighorn Way\, Chelan\, Washington\, 98816\, United States
ATTACH;FMTTYPE=image/png:https://endlessorchardcider.com/wp-content/uploads/2024/06/Event-Calendar-Template-8.png
END:VEVENT
BEGIN:VEVENT
DTSTART;TZID=America/Los_Angeles:20240710T150000
DTEND;TZID=America/Los_Angeles:20240710T180000
DTSTAMP:20260424T063310
CREATED:20240613T221911Z
LAST-MODIFIED:20240613T221911Z
UID:655-1720623600-1720634400@endlessorchardcider.com
SUMMARY:Live Music with Darnell Scott + Taco Bar
DESCRIPTION:Join us for an unforgettable experience at our Endless Orchard Summer Concert Series. Enjoy live music by Darnell Scott\, a talented local artist from the Pacific Northwest\, from 3 to 6pm. Whether you grab a spot on the patio or the lawn\, a glass of our cold\, refreshing cider is the perfect companion to your summer bliss.\n\nLive Music: Darnell Scott is a one of a kind musician and a man who is making his mark in the world of Blues\, R&B\, and Soul. Lawn Games: Have fun with friends and family with a variety of classic lawn games.Delicious Food: Taco Bar + Cider Tasting available for purchase!Cider: 6 unforgettable flavors on tap \n\nMake this summer one to remember with great music\, tasty cider\, and the best company. We can’t wait to see you there!
URL:https://endlessorchardcider.com/event/live-music-with-darnell-scott-taco-bar/
LOCATION:Endless Orchard Tasting Room\, 203 Bighorn Way\, Chelan\, Washington\, 98816\, United States
ATTACH;FMTTYPE=image/png:https://endlessorchardcider.com/wp-content/uploads/2024/06/July-10-Darnell-Scott.png
END:VEVENT
BEGIN:VEVENT
DTSTART;TZID=America/Los_Angeles:20240714T150000
DTEND;TZID=America/Los_Angeles:20240714T180000
DTSTAMP:20260424T063310
CREATED:20240614T145242Z
LAST-MODIFIED:20240614T164943Z
UID:657-1720969200-1720980000@endlessorchardcider.com
SUMMARY:Live Music with Elaine Eagle
DESCRIPTION:Join us for an unforgettable experience at our Endless Orchard Summer Concert Series. Enjoy live music by Elaine Eagle\, a talented local artist from the Pacific Northwest\, from 3 to 6pm. Whether you grab a spot on the patio or the lawn\, a glass of our cold\, refreshing cider is the perfect companion to your summer bliss.\n\nLive Music: Elaine blends her classical music education with modern writing sensibilities\, performing a wide mix of genres along with gripping and creative original material.Lawn Games: Have fun with friends and family with a variety of classic lawn games.Delicious Food: Taco Bar + Cider Tasting available for purchase!Cider: 6 unforgettable flavors on tap \n\nMake this summer one to remember with great music\, tasty cider\, and the best company. We can’t wait to see you there!
URL:https://endlessorchardcider.com/event/live-music-with-elaine-eagle/
LOCATION:Endless Orchard Tasting Room\, 203 Bighorn Way\, Chelan\, Washington\, 98816\, United States
ATTACH;FMTTYPE=image/png:https://endlessorchardcider.com/wp-content/uploads/2024/06/July-14-Elaine-Eagle.png
END:VEVENT
BEGIN:VEVENT
DTSTART;TZID=America/Los_Angeles:20240717T150000
DTEND;TZID=America/Los_Angeles:20240717T180000
DTSTAMP:20260424T063310
CREATED:20240614T150938Z
LAST-MODIFIED:20240614T150938Z
UID:660-1721228400-1721239200@endlessorchardcider.com
SUMMARY:Live Music with The Skiffs + Taco Bar
DESCRIPTION:Join us for an unforgettable experience at our Endless Orchard Summer Concert Series. Enjoy live music by The Skiffs\, a talented local band from the Pacific Northwest\, from 3 to 6pm. Whether you grab a spot on the patio or the lawn\, a glass of our cold\, refreshing cider is the perfect companion to your summer bliss.\n\nLive Music: The Skiffs music is described as outlaw\, classic country\, rockabilly\, rock\, and bluegrass!Lawn Games: Have fun with friends and family with a variety of classic lawn games.Delicious Food: Taco Bar + Cider Tasting available for purchase!Cider: 6 unforgettable flavors on tap✨\n\nMake this summer one to remember with great music\, tasty cider\, and the best company. We can’t wait to see you there!
URL:https://endlessorchardcider.com/event/live-music-with-the-skiffs-taco-bar/
LOCATION:Endless Orchard Tasting Room\, 203 Bighorn Way\, Chelan\, Washington\, 98816\, United States
ATTACH;FMTTYPE=image/png:https://endlessorchardcider.com/wp-content/uploads/2024/06/July-17-The-Skiffs.png
END:VEVENT
BEGIN:VEVENT
DTSTART;TZID=America/Los_Angeles:20240721T150000
DTEND;TZID=America/Los_Angeles:20240721T180000
DTSTAMP:20260424T063310
CREATED:20240614T152507Z
LAST-MODIFIED:20240614T152507Z
UID:662-1721574000-1721584800@endlessorchardcider.com
SUMMARY:Live Music with Virgil Eagle from Whisky Trail
DESCRIPTION:Join us for an unforgettable experience at our Endless Orchard Summer Concert Series. Enjoy live music by Virgil Eagle from Whisky Trail\, from 3 to 6pm. Whether you grab a spot on the patio or the lawn\, a glass of our cold\, refreshing cider is the perfect companion to your summer bliss.\n\nLive Music: Join Virgil as he takes you way-back\, evoking the memories and nostalgia of your favorite tunes from simpler times. Lawn Games: Have fun with friends and family with a variety of classic lawn games.Delicious Food: Tasty bites available for purchase!Cider: 6 unforgettable flavors on tap✨\n\nMake this summer one to remember with great music\, tasty cider\, and the best company. We can’t wait to see you there!
URL:https://endlessorchardcider.com/event/live-music-with-virgil-eagle-from-whisky-trail/
ATTACH;FMTTYPE=image/png:https://endlessorchardcider.com/wp-content/uploads/2024/06/July-21-Whisky-Trail-Virgil.png
END:VEVENT
BEGIN:VEVENT
DTSTART;TZID=America/Los_Angeles:20240724T160000
DTEND;TZID=America/Los_Angeles:20240724T183000
DTSTAMP:20260424T063310
CREATED:20240614T153255Z
LAST-MODIFIED:20240701T203721Z
UID:664-1721836800-1721845800@endlessorchardcider.com
SUMMARY:Live Music with Greg King + Taco Bar
DESCRIPTION:Join us for an unforgettable experience at our Endless Orchard Summer Concert Series. Enjoy live music by Greg King\, a talented local artist from the Pacific Northwest\, from 4 to 6:30pm. Whether you grab a spot on the patio or the lawn\, a glass of our cold\, refreshing cider is the perfect companion to your summer bliss.\n\nLive Music: Greg is a singer\, songwriter\, guitarist\, and band leader with a smooth tenor voice\, singing classic and unique rock covers and some originals.Lawn Games: Have fun with friends and family with a variety of classic lawn games.Delicious Food: Taco Bar + Cider Tasting available for purchase!Cider: 6 unforgettable flavors on tap \n\nMake this summer one to remember with great music\, tasty cider\, and the best company. We can’t wait to see you there!
URL:https://endlessorchardcider.com/event/live-music-with-greg-king-taco-bar/
LOCATION:Endless Orchard Tasting Room\, 203 Bighorn Way\, Chelan\, Washington\, 98816\, United States
ATTACH;FMTTYPE=image/png:https://endlessorchardcider.com/wp-content/uploads/2024/06/Event-Calendar-Template-11.png
END:VEVENT
BEGIN:VEVENT
DTSTART;TZID=America/Los_Angeles:20240726T150000
DTEND;TZID=America/Los_Angeles:20240726T180000
DTSTAMP:20260424T063310
CREATED:20240614T154521Z
LAST-MODIFIED:20240617T164721Z
UID:666-1722006000-1722016800@endlessorchardcider.com
SUMMARY:Live Music with Curtis Moore
DESCRIPTION:Join us for an unforgettable experience at our Endless Orchard Summer Concert Series. Enjoy live music by Curtis Moore\, a talented local artist from the Pacific Northwest\, from 3 to 6pm. Whether you grab a spot on the patio or the lawn\, a glass of our cold\, refreshing cider is the perfect companion to your summer bliss.\n\nLive Music: Singer\, songwriter & storyteller Curtis Roy Moore’s unique voice infuses\, Americana\, folk\, country\, and blues creating a unique experience full of stories from his life.Lawn Games: Have fun with friends and family with a variety of classic lawn games.Delicious Food: Taco Bar + Cider Tasting available for purchase!Cider: 6 unforgettable flavors on tap \n\nMake this summer one to remember with great music\, tasty cider\, and the best company. We can’t wait to see you there!
URL:https://endlessorchardcider.com/event/live-music-with-curtis-moore/
LOCATION:Endless Orchard Tasting Room\, 203 Bighorn Way\, Chelan\, Washington\, 98816\, United States
ATTACH;FMTTYPE=image/png:https://endlessorchardcider.com/wp-content/uploads/2024/06/July-26-Curtis-Moore.png
END:VEVENT
BEGIN:VEVENT
DTSTART;TZID=America/Los_Angeles:20240728T150000
DTEND;TZID=America/Los_Angeles:20240728T180000
DTSTAMP:20260424T063310
CREATED:20240614T161329Z
LAST-MODIFIED:20240614T161329Z
UID:668-1722178800-1722189600@endlessorchardcider.com
SUMMARY:Live Music with Chris Ward
DESCRIPTION:Join us for an unforgettable experience at our Endless Orchard Summer Concert Series. Enjoy live music by Chris Ward\, a talented local artist from the Pacific Northwest\, from 3 to 6pm. Whether you grab a spot on the patio or the lawn\, a glass of our cold\, refreshing cider is the perfect companion to your summer bliss.\n\nLive Music: Classic country from one of our favorites!Lawn Games: Have fun with friends and family with a variety of classic lawn games.Delicious Food: Taco Bar + Cider Tasting available for purchase!Cider: 6 unforgettable flavors on tap \n\nMake this summer one to remember with great music\, tasty cider\, and the best company. We can’t wait to see you there!
URL:https://endlessorchardcider.com/event/live-music-with-chris-ward/
LOCATION:Endless Orchard Tasting Room\, 203 Bighorn Way\, Chelan\, Washington\, 98816\, United States
ATTACH;FMTTYPE=image/png:https://endlessorchardcider.com/wp-content/uploads/2024/06/July-28-Chris-Ward.png
END:VEVENT
BEGIN:VEVENT
DTSTART;TZID=America/Los_Angeles:20240731T150000
DTEND;TZID=America/Los_Angeles:20240731T180000
DTSTAMP:20260424T063310
CREATED:20240614T162239Z
LAST-MODIFIED:20240614T225647Z
UID:671-1722438000-1722448800@endlessorchardcider.com
SUMMARY:Live Music with Owen Barnhart + Taco Bar
DESCRIPTION:Join us for an unforgettable experience at our Endless Orchard Summer Concert Series. Enjoy live music by Owen Barnhart\, a talented local artist from the Pacific Northwest\, from 3 to 6pm. Whether you grab a spot on the patio or the lawn\, a glass of our cold\, refreshing cider is the perfect companion to your summer bliss.\n\nLive Music: Classic country\, rock and folk music!Lawn Games: Have fun with friends and family with a variety of classic lawn games.Delicious Food: Taco Bar + Cider Flights for purchase! Cider: 6 unforgettable flavors on tap \n\nMake this summer one to remember with great music\, tasty cider\, and the best company. We can’t wait to see you there!
URL:https://endlessorchardcider.com/event/live-music-with-owen-barnhart/
LOCATION:Endless Orchard Tasting Room\, 203 Bighorn Way\, Chelan\, Washington\, 98816\, United States
ATTACH;FMTTYPE=image/png:https://endlessorchardcider.com/wp-content/uploads/2024/06/Event-Calendar-Template-6.png
END:VEVENT
END:VCALENDAR