BEGIN:VCALENDAR
VERSION:2.0
PRODID:-//Endless Orchard Cider - ECPv6.15.20//NONSGML v1.0//EN
CALSCALE:GREGORIAN
METHOD:PUBLISH
X-WR-CALNAME:Endless Orchard Cider
X-ORIGINAL-URL:https://endlessorchardcider.com
X-WR-CALDESC:Events for Endless Orchard Cider
REFRESH-INTERVAL;VALUE=DURATION:PT1H
X-Robots-Tag:noindex
X-PUBLISHED-TTL:PT1H
BEGIN:VTIMEZONE
TZID:America/Los_Angeles
BEGIN:DAYLIGHT
TZOFFSETFROM:-0800
TZOFFSETTO:-0700
TZNAME:PDT
DTSTART:20250309T100000
END:DAYLIGHT
BEGIN:STANDARD
TZOFFSETFROM:-0700
TZOFFSETTO:-0800
TZNAME:PST
DTSTART:20251102T090000
END:STANDARD
BEGIN:DAYLIGHT
TZOFFSETFROM:-0800
TZOFFSETTO:-0700
TZNAME:PDT
DTSTART:20260308T100000
END:DAYLIGHT
BEGIN:STANDARD
TZOFFSETFROM:-0700
TZOFFSETTO:-0800
TZNAME:PST
DTSTART:20261101T090000
END:STANDARD
BEGIN:DAYLIGHT
TZOFFSETFROM:-0800
TZOFFSETTO:-0700
TZNAME:PDT
DTSTART:20270314T100000
END:DAYLIGHT
BEGIN:STANDARD
TZOFFSETFROM:-0700
TZOFFSETTO:-0800
TZNAME:PST
DTSTART:20271107T090000
END:STANDARD
END:VTIMEZONE
BEGIN:VEVENT
DTSTART;TZID=America/Los_Angeles:20260527T160000
DTEND;TZID=America/Los_Angeles:20260527T190000
DTSTAMP:20260422T162029
CREATED:20260320T163325Z
LAST-MODIFIED:20260320T163858Z
UID:1289-1779897600-1779908400@endlessorchardcider.com
SUMMARY:Tacos & Tunes - Live Music with Andru Gomez 5/27
DESCRIPTION:Tacos + Tunes at Endless Orchard Cider 🌮🎶 \nWednesdays = tacos\, live music\, and cold cider in the sunshine. \nJoin us at Endless Orchard Cider for Tacos + Tunes\, a weekly summer series featuring fresh tacos topped with Marcela’s house-made salsa\, cider on tap\, local beer\, and non-alcoholic options for everyone to enjoy. \nEach week\, we’ll highlight a live music artist to set the tone while you kick back\, relax\, and enjoy the evening. Our spacious outdoor area is family-friendly with plenty of room to spread out\, making it the perfect midweek hangout. \nKicking off with live music from Andru Gomez—a Montana-born\, Idaho-based musician with over 20 years of experience and a sound that keeps you lingering just a little longer. \n📅 Wednesdays⏰ 4–7 PM📍 Endless Orchard Cider \nCome for the tacos\, stay for the music\, and make it your new Wednesday tradition.
URL:https://endlessorchardcider.com/event/tacos-tunes-live-music-with-andru-gomez-5-27/
LOCATION:Endless Orchard Tasting Room\, 203 Bighorn Way\, Chelan\, Washington\, 98816\, United States
ATTACH;FMTTYPE=image/png:https://endlessorchardcider.com/wp-content/uploads/2026/03/TT-Andru-Gomez-1.png
END:VEVENT
BEGIN:VEVENT
DTSTART;TZID=America/Los_Angeles:20260603T160000
DTEND;TZID=America/Los_Angeles:20260603T190000
DTSTAMP:20260422T162029
CREATED:20260406T174300Z
LAST-MODIFIED:20260406T174300Z
UID:1293-1780502400-1780513200@endlessorchardcider.com
SUMMARY:Tacos & Tunes - Live Music with Liberty Linklater 6/3
DESCRIPTION:Wednesdays = tacos\, live music\, and cold cider in the sunshine. \nJoin us at Endless Orchard Cider for Tacos + Tunes\, a weekly summer series featuring fresh tacos topped with Marcela’s house-made salsa\, cider on tap\, local beer\, and non-alcoholic options for everyone to enjoy. \nEach week\, we’ll highlight a live music artist to set the tone while you kick back\, relax\, and enjoy the evening. Our spacious outdoor area is family-friendly with plenty of room to spread out\, making it the perfect midweek hangout. \nFeaturing live music from Liberty Linklater—bringing an easygoing\, feel-good sound that pairs perfectly with summer evenings and a glass of cider in hand. \n📅 Wednesday\, June 3⏰ 4–7 PM📍 Endless Orchard Cider \nCome for the tacos\, stay for the music\, and make it your new Wednesday tradition.
URL:https://endlessorchardcider.com/event/tacos-tunes-live-music-with-liberty-linklater/
LOCATION:Endless Orchard Tasting Room\, 203 Bighorn Way\, Chelan\, Washington\, 98816\, United States
ATTACH;FMTTYPE=image/png:https://endlessorchardcider.com/wp-content/uploads/2026/04/TT-Liberty-Linklater.png
END:VEVENT
BEGIN:VEVENT
DTSTART;TZID=America/Los_Angeles:20260610T160000
DTEND;TZID=America/Los_Angeles:20260610T190000
DTSTAMP:20260422T162029
CREATED:20260422T191353Z
LAST-MODIFIED:20260422T191353Z
UID:1328-1781107200-1781118000@endlessorchardcider.com
SUMMARY:Tacos & Tunes - Live Music with Eric Link 6/10
DESCRIPTION:Wednesdays = tacos\, live music\, and cold cider in the sunshine. \nJoin us at Endless Orchard Cider for Tacos + Tunes—our weekly summer series featuring fresh tacos topped with Marcela’s house-made salsa\, cider on tap\, local beer\, and non-alcoholic options for everyone to enjoy. \nEach week\, we spotlight a live music artist to set the vibe while you kick back\, relax\, and soak up the evening. Our spacious outdoor area is family-friendly with plenty of room to spread out—aka your new favorite midweek hangout. \nFeaturing live music from Eric Link—bringing a laid-back\, feel-good sound that pairs perfectly with warm sunshine and a crisp glass of cider. \n📅 Wednesday\, June 10⏰ 4–7 PM📍 Endless Orchard Cider \nCome for the tacos\, stay for the tunes\, and make it your Wednesday thing.
URL:https://endlessorchardcider.com/event/tacos-tunes-live-music-with-eric-link-6-10/
LOCATION:Endless Orchard Tasting Room\, 203 Bighorn Way\, Chelan\, Washington\, 98816\, United States
ATTACH;FMTTYPE=image/png:https://endlessorchardcider.com/wp-content/uploads/2026/04/TT-Eric-Link-1.png
END:VEVENT
BEGIN:VEVENT
DTSTART;TZID=America/Los_Angeles:20260617T160000
DTEND;TZID=America/Los_Angeles:20260617T190000
DTSTAMP:20260422T162029
CREATED:20260422T191820Z
LAST-MODIFIED:20260422T191820Z
UID:1330-1781712000-1781722800@endlessorchardcider.com
SUMMARY:Tacos + Tunes - Live Music with Virgil Eagle 6/17
DESCRIPTION:Wednesdays = tacos\, live music\, and cold cider in the sunshine. \nJoin us at Endless Orchard Cider for Tacos + Tunes—our weekly summer series featuring fresh tacos topped with Marcela’s house-made salsa\, cider on tap\, local beer\, and non-alcoholic options for everyone to enjoy. \nEach week\, we spotlight a live music artist to set the vibe while you kick back\, relax\, and soak up the evening. Our spacious outdoor area is family-friendly with plenty of room to spread out—aka your new favorite midweek hangout. \nFeaturing live music from Virgil Eagle of Whisky Trail Band—bringing a country/rock edge and high-energy set that pairs perfectly with sunshine and a crisp glass of cider. \n📅 Wednesday\, June 17⏰ 4–7 PM📍 Endless Orchard Cider \nCome for the tacos\, stay for the tunes\, and make it your Wednesday thing.
URL:https://endlessorchardcider.com/event/tacos-tunes-live-music-with-virgil-eagle-6-17/
LOCATION:Endless Orchard Tasting Room\, 203 Bighorn Way\, Chelan\, Washington\, 98816\, United States
ATTACH;FMTTYPE=image/png:https://endlessorchardcider.com/wp-content/uploads/2026/04/TT-Virgil-Eagle-June-17.png
END:VEVENT
END:VCALENDAR