BEGIN:VCALENDAR
VERSION:2.0
PRODID:-//Endless Orchard Cider - ECPv6.15.20//NONSGML v1.0//EN
CALSCALE:GREGORIAN
METHOD:PUBLISH
X-ORIGINAL-URL:https://endlessorchardcider.com
X-WR-CALDESC:Events for Endless Orchard Cider
REFRESH-INTERVAL;VALUE=DURATION:PT1H
X-Robots-Tag:noindex
X-PUBLISHED-TTL:PT1H
BEGIN:VTIMEZONE
TZID:America/Los_Angeles
BEGIN:DAYLIGHT
TZOFFSETFROM:-0800
TZOFFSETTO:-0700
TZNAME:PDT
DTSTART:20250309T100000
END:DAYLIGHT
BEGIN:STANDARD
TZOFFSETFROM:-0700
TZOFFSETTO:-0800
TZNAME:PST
DTSTART:20251102T090000
END:STANDARD
BEGIN:DAYLIGHT
TZOFFSETFROM:-0800
TZOFFSETTO:-0700
TZNAME:PDT
DTSTART:20260308T100000
END:DAYLIGHT
BEGIN:STANDARD
TZOFFSETFROM:-0700
TZOFFSETTO:-0800
TZNAME:PST
DTSTART:20261101T090000
END:STANDARD
BEGIN:DAYLIGHT
TZOFFSETFROM:-0800
TZOFFSETTO:-0700
TZNAME:PDT
DTSTART:20270314T100000
END:DAYLIGHT
BEGIN:STANDARD
TZOFFSETFROM:-0700
TZOFFSETTO:-0800
TZNAME:PST
DTSTART:20271107T090000
END:STANDARD
END:VTIMEZONE
BEGIN:VEVENT
DTSTART;TZID=America/Los_Angeles:20260514T163000
DTEND;TZID=America/Los_Angeles:20260516T183000
DTSTAMP:20260422T070630
CREATED:20260306T194436Z
LAST-MODIFIED:20260313T190858Z
UID:1280-1778776200-1778956200@endlessorchardcider.com
SUMMARY:Lake Chelan Wine & Jazz Festival at Endless Orchard Cider
DESCRIPTION:We’re excited to share that Endless Orchard will be a first-time host venue for the Lake Chelan Wine and Jazz Festival happening May 14–17\, 2026. This is a huge opportunity to showcase our tasting room\, our cider\, and our hospitality as guests travel to the valley for one of Washington’s most anticipated wine and music weekends. \nThroughout the festival\, we’ll host eight live performances between Thursday and Saturday\, with transportation bringing attendees directly to participating venues. We can expect strong traffic\, great energy\, and plenty of new guests experiencing Endless Orchard for the first time.\n\nThursday Schedule\nSTEPHANIE PORTER 4:30 – 6PM\nSTEPHANIE PORTER 6:45 – 8:15PM \nFriday Schedule\nEUGENIE JONES 12:30 – 2:00PM\nCASCADIA GROOVE 2:45-4:15PM\nLAKE CHELAN JAZZ BAND 5 – 6:30PM \nSaturday Schedule\nDMITRI MATHENY 12:30 – 2:00PM\nFRANCESCO CROSARA 2:45-4:15PM\nGRETA MATASSA 5 – 6:30PM \n🎟️ Tickets for the Lake Chelan Wine and Jazz Festival—including All Access VIP and Single Day passes—are available now at the official festival website (chelanwinejazz.com).
URL:https://endlessorchardcider.com/event/wine-and-jazz-at-endless-orchard/
LOCATION:Endless Orchard Tasting Room\, 203 Bighorn Way\, Chelan\, Washington\, 98816\, United States
ATTACH;FMTTYPE=image/png:https://endlessorchardcider.com/wp-content/uploads/2026/03/Instagram-EO-31.png
END:VEVENT
END:VCALENDAR