BEGIN:VCALENDAR
VERSION:2.0
PRODID:-//Endless Orchard Cider - ECPv6.15.20//NONSGML v1.0//EN
CALSCALE:GREGORIAN
METHOD:PUBLISH
X-WR-CALNAME:Endless Orchard Cider
X-ORIGINAL-URL:https://endlessorchardcider.com
X-WR-CALDESC:Events for Endless Orchard Cider
REFRESH-INTERVAL;VALUE=DURATION:PT1H
X-Robots-Tag:noindex
X-PUBLISHED-TTL:PT1H
BEGIN:VTIMEZONE
TZID:America/Los_Angeles
BEGIN:DAYLIGHT
TZOFFSETFROM:-0800
TZOFFSETTO:-0700
TZNAME:PDT
DTSTART:20230312T100000
END:DAYLIGHT
BEGIN:STANDARD
TZOFFSETFROM:-0700
TZOFFSETTO:-0800
TZNAME:PST
DTSTART:20231105T090000
END:STANDARD
BEGIN:DAYLIGHT
TZOFFSETFROM:-0800
TZOFFSETTO:-0700
TZNAME:PDT
DTSTART:20240310T100000
END:DAYLIGHT
BEGIN:STANDARD
TZOFFSETFROM:-0700
TZOFFSETTO:-0800
TZNAME:PST
DTSTART:20241103T090000
END:STANDARD
BEGIN:DAYLIGHT
TZOFFSETFROM:-0800
TZOFFSETTO:-0700
TZNAME:PDT
DTSTART:20250309T100000
END:DAYLIGHT
BEGIN:STANDARD
TZOFFSETFROM:-0700
TZOFFSETTO:-0800
TZNAME:PST
DTSTART:20251102T090000
END:STANDARD
END:VTIMEZONE
BEGIN:VEVENT
DTSTART;TZID=America/Los_Angeles:20241220T180000
DTEND;TZID=America/Los_Angeles:20241220T200000
DTSTAMP:20260423T051347
CREATED:20241115T013843Z
LAST-MODIFIED:20241115T014441Z
UID:894-1734717600-1734724800@endlessorchardcider.com
SUMMARY:Cookie Decorating with Wenatchee Cookie Co!
DESCRIPTION:Wenatchee Cookie Co.’s cookie decorating class is the perfect opportunity to get out and have some fun! Whether you come on your own or with friends or family\, you are sure to have a good time and learn some new skills along the way (and get tasty cookies!). Click here to reserve your spot! \nJoin us Friday\, December 20th from 6:00-8:00pm for a cookie decorating class taught with expert instruction by Liz Davidson from Wenatchee Cookie Co. No prior experience needed\, and all supplies will be provided. You’ll learn the basics of decorating sugar cookies with royal icing\, practicing basic piping and filling techniques. Each participant will walk away with six of their own cookies. \nCome early to order food and drinks available for purchase before and during class. We will offer special day of discounts for class participants that you won’t want to miss! \nYou’ll receive an email a few days before class with directions to Endless Orchard Cider and additional day-of details. We request that an adult accompanies all young people under the age of 18. One ticket required per student.
URL:https://endlessorchardcider.com/event/cooke-decorating-with-wenatchee-cookie-co/
LOCATION:Endless Orchard Tasting Room\, 203 Bighorn Way\, Chelan\, Washington\, 98816\, United States
ATTACH;FMTTYPE=image/png:https://endlessorchardcider.com/wp-content/uploads/2024/11/4.png
END:VEVENT
END:VCALENDAR