BEGIN:VCALENDAR
VERSION:2.0
PRODID:-//Endless Orchard Cider - ECPv6.15.20//NONSGML v1.0//EN
CALSCALE:GREGORIAN
METHOD:PUBLISH
X-ORIGINAL-URL:https://endlessorchardcider.com
X-WR-CALDESC:Events for Endless Orchard Cider
REFRESH-INTERVAL;VALUE=DURATION:PT1H
X-Robots-Tag:noindex
X-PUBLISHED-TTL:PT1H
BEGIN:VTIMEZONE
TZID:America/Los_Angeles
BEGIN:DAYLIGHT
TZOFFSETFROM:-0800
TZOFFSETTO:-0700
TZNAME:PDT
DTSTART:20230312T100000
END:DAYLIGHT
BEGIN:STANDARD
TZOFFSETFROM:-0700
TZOFFSETTO:-0800
TZNAME:PST
DTSTART:20231105T090000
END:STANDARD
BEGIN:DAYLIGHT
TZOFFSETFROM:-0800
TZOFFSETTO:-0700
TZNAME:PDT
DTSTART:20240310T100000
END:DAYLIGHT
BEGIN:STANDARD
TZOFFSETFROM:-0700
TZOFFSETTO:-0800
TZNAME:PST
DTSTART:20241103T090000
END:STANDARD
BEGIN:DAYLIGHT
TZOFFSETFROM:-0800
TZOFFSETTO:-0700
TZNAME:PDT
DTSTART:20250309T100000
END:DAYLIGHT
BEGIN:STANDARD
TZOFFSETFROM:-0700
TZOFFSETTO:-0800
TZNAME:PST
DTSTART:20251102T090000
END:STANDARD
END:VTIMEZONE
BEGIN:VEVENT
DTSTART;TZID=America/Los_Angeles:20241206T120000
DTEND;TZID=America/Los_Angeles:20241206T150000
DTSTAMP:20260423T034656
CREATED:20241115T012606Z
LAST-MODIFIED:20241115T200939Z
UID:892-1733486400-1733497200@endlessorchardcider.com
SUMMARY:Great Endless Arctic Apple Bake Off!
DESCRIPTION:Please join us in celebrating the incredible Arctic® Apples that make up our delicious Endless Orchard ciders\, as well as the creativity of our talented local bakers! Any apple-based dessert is welcome\, including (but not limited to) pies\, tarts\, cakes\, caramel apples\, cobblers\, crisps\, cupcakes\, donuts\, and fritters. All desserts must feature our Arctic® apples as the main ingredient. Let your creativity shine and impress our judges with a unique dessert that complements our delicious Endless Orchard Ciders! \n\nApple pick up will be available starting Nov. 21 – Dec. 5th!\nBake Off Judging is Dec. 6th at 12pm!\n\n  \nSign up to participate and review contest rules by downloading this document. \n 
URL:https://endlessorchardcider.com/event/great-endless-arctic-apple-bake-off/
LOCATION:Endless Orchard Tasting Room\, 203 Bighorn Way\, Chelan\, Washington\, 98816\, United States
ATTACH;FMTTYPE=image/png:https://endlessorchardcider.com/wp-content/uploads/2024/11/2.png
END:VEVENT
END:VCALENDAR