BEGIN:VCALENDAR
VERSION:2.0
PRODID:-//Endless Orchard Cider - ECPv6.15.20//NONSGML v1.0//EN
CALSCALE:GREGORIAN
METHOD:PUBLISH
X-WR-CALNAME:Endless Orchard Cider
X-ORIGINAL-URL:https://endlessorchardcider.com
X-WR-CALDESC:Events for Endless Orchard Cider
REFRESH-INTERVAL;VALUE=DURATION:PT1H
X-Robots-Tag:noindex
X-PUBLISHED-TTL:PT1H
BEGIN:VTIMEZONE
TZID:America/Los_Angeles
BEGIN:DAYLIGHT
TZOFFSETFROM:-0800
TZOFFSETTO:-0700
TZNAME:PDT
DTSTART:20230312T100000
END:DAYLIGHT
BEGIN:STANDARD
TZOFFSETFROM:-0700
TZOFFSETTO:-0800
TZNAME:PST
DTSTART:20231105T090000
END:STANDARD
BEGIN:DAYLIGHT
TZOFFSETFROM:-0800
TZOFFSETTO:-0700
TZNAME:PDT
DTSTART:20240310T100000
END:DAYLIGHT
BEGIN:STANDARD
TZOFFSETFROM:-0700
TZOFFSETTO:-0800
TZNAME:PST
DTSTART:20241103T090000
END:STANDARD
BEGIN:DAYLIGHT
TZOFFSETFROM:-0800
TZOFFSETTO:-0700
TZNAME:PDT
DTSTART:20250309T100000
END:DAYLIGHT
BEGIN:STANDARD
TZOFFSETFROM:-0700
TZOFFSETTO:-0800
TZNAME:PST
DTSTART:20251102T090000
END:STANDARD
END:VTIMEZONE
BEGIN:VEVENT
DTSTART;TZID=America/Los_Angeles:20240831T150000
DTEND;TZID=America/Los_Angeles:20240831T180000
DTSTAMP:20260424T081653
CREATED:20240805T183511Z
LAST-MODIFIED:20240805T183511Z
UID:738-1725116400-1725127200@endlessorchardcider.com
SUMMARY:Live Music with Liberty Linklater
DESCRIPTION:Join us for an unforgettable experience at our Endless Orchard Summer Concert Series. Enjoy live music by Liberty Linklater\, a talented local artist from the Pacific Northwest\, from 3 to 6pm. Whether you grab a spot on the patio or the lawn\, a glass of our cold\, refreshing cider is the perfect companion to your summer bliss.\n\nLive Music: Get ready for an evening of your favorite country classics with the talented singer/songwriter\, Liberty Linklater!Lawn Games: Have fun with friends and family with a variety of classic lawn games.Delicious Food: Tasty bites available for purchase!Cider: 6 unforgettable flavors on tap \n\nMake this summer one to remember with great music\, tasty cider\, and the best company. We can’t wait to see you there!
URL:https://endlessorchardcider.com/event/live-music-with-liberty/
LOCATION:Endless Orchard Tasting Room\, 203 Bighorn Way\, Chelan\, Washington\, 98816\, United States
ATTACH;FMTTYPE=image/png:https://endlessorchardcider.com/wp-content/uploads/2024/08/August-31-Liberty.png
END:VEVENT
END:VCALENDAR