BEGIN:VCALENDAR
VERSION:2.0
PRODID:-//Endless Orchard Cider - ECPv6.15.20//NONSGML v1.0//EN
CALSCALE:GREGORIAN
METHOD:PUBLISH
X-ORIGINAL-URL:https://endlessorchardcider.com
X-WR-CALDESC:Events for Endless Orchard Cider
REFRESH-INTERVAL;VALUE=DURATION:PT1H
X-Robots-Tag:noindex
X-PUBLISHED-TTL:PT1H
BEGIN:VTIMEZONE
TZID:America/Los_Angeles
BEGIN:DAYLIGHT
TZOFFSETFROM:-0800
TZOFFSETTO:-0700
TZNAME:PDT
DTSTART:20230312T100000
END:DAYLIGHT
BEGIN:STANDARD
TZOFFSETFROM:-0700
TZOFFSETTO:-0800
TZNAME:PST
DTSTART:20231105T090000
END:STANDARD
BEGIN:DAYLIGHT
TZOFFSETFROM:-0800
TZOFFSETTO:-0700
TZNAME:PDT
DTSTART:20240310T100000
END:DAYLIGHT
BEGIN:STANDARD
TZOFFSETFROM:-0700
TZOFFSETTO:-0800
TZNAME:PST
DTSTART:20241103T090000
END:STANDARD
BEGIN:DAYLIGHT
TZOFFSETFROM:-0800
TZOFFSETTO:-0700
TZNAME:PDT
DTSTART:20250309T100000
END:DAYLIGHT
BEGIN:STANDARD
TZOFFSETFROM:-0700
TZOFFSETTO:-0800
TZNAME:PST
DTSTART:20251102T090000
END:STANDARD
END:VTIMEZONE
BEGIN:VEVENT
DTSTART;TZID=America/Los_Angeles:20240823T180000
DTEND;TZID=America/Los_Angeles:20240823T210000
DTSTAMP:20260424T081843
CREATED:20240404T152349Z
LAST-MODIFIED:20240805T152130Z
UID:506-1724436000-1724446800@endlessorchardcider.com
SUMMARY:Ciders Around the World
DESCRIPTION:Ready for a cider adventure? Join us at Endless Orchard as we take you on a flavorful journey around the globe! We’re bringing you hard ciders from Endless Orchard\, France\, the UK\, Spain\, and Canada—all in one place. \nOur culinary wizard\, Chef Austin Harmon\, has whipped up an incredible menu to pair perfectly with these international delights. Trust us\, your taste buds are in for a treat! \nOur very own cider maker\, Sam Kiersey\, will guide you through a tasting session featuring our stars: Everlasting Golden and Infinite Granny. Sam’s got all the insider info on what makes each sip so special. \nRSVP by calling the Endless Orchard Tasting Room at 509-888-7278.
URL:https://endlessorchardcider.com/event/ciders-around-the-world/
LOCATION:Endless Orchard Tasting Room\, 203 Bighorn Way\, Chelan\, Washington\, 98816\, United States
ATTACH;FMTTYPE=image/png:https://endlessorchardcider.com/wp-content/uploads/2024/04/Ciders-Around-the-World-Event-Graphic.png
END:VEVENT
END:VCALENDAR